BEGIN:VCALENDAR
VERSION:2.0
PRODID:-//Cerf-Volant Sud - ECPv6.15.17.1//NONSGML v1.0//EN
CALSCALE:GREGORIAN
METHOD:PUBLISH
X-ORIGINAL-URL:https://cerfvolantsud.fr
X-WR-CALDESC:Évènements pour Cerf-Volant Sud
REFRESH-INTERVAL;VALUE=DURATION:PT1H
X-Robots-Tag:noindex
X-PUBLISHED-TTL:PT1H
BEGIN:VTIMEZONE
TZID:Europe/Paris
BEGIN:DAYLIGHT
TZOFFSETFROM:+0100
TZOFFSETTO:+0200
TZNAME:CEST
DTSTART:20250330T010000
END:DAYLIGHT
BEGIN:STANDARD
TZOFFSETFROM:+0200
TZOFFSETTO:+0100
TZNAME:CET
DTSTART:20251026T010000
END:STANDARD
BEGIN:DAYLIGHT
TZOFFSETFROM:+0100
TZOFFSETTO:+0200
TZNAME:CEST
DTSTART:20260329T010000
END:DAYLIGHT
BEGIN:STANDARD
TZOFFSETFROM:+0200
TZOFFSETTO:+0100
TZNAME:CET
DTSTART:20261025T010000
END:STANDARD
BEGIN:DAYLIGHT
TZOFFSETFROM:+0100
TZOFFSETTO:+0200
TZNAME:CEST
DTSTART:20270328T010000
END:DAYLIGHT
BEGIN:STANDARD
TZOFFSETFROM:+0200
TZOFFSETTO:+0100
TZNAME:CET
DTSTART:20271031T010000
END:STANDARD
END:VTIMEZONE
BEGIN:VEVENT
DTSTART;TZID=Europe/Paris:20260223T133000
DTEND;TZID=Europe/Paris:20260227T163000
DTSTAMP:20260423T140151
CREATED:20260121T103845Z
LAST-MODIFIED:20260121T112344Z
UID:220-1771853400-1772209800@cerfvolantsud.fr
SUMMARY:Stage sportif cerf-volant et boomerang
DESCRIPTION:Stage sportif cerf-volant et boomerang \nDate : Du 23 au 27 février \nHoraire : 13h30 16h30 \nAdresse : Coteau de Malbosc\n34090 Montpellier (Hérault)\nTerrain de vol libre de l’école de cerf-volant. \nTéléphone : 06 52 92 22 50 \nTarif : Réservé aux enfants titulaires de la carte Montpellier sports. \nSite web : https://cerfvolantsud.fr \nInfos pratiques : 🪂 Stages et activités pratiques\n✈️ 1. Vols découverte et baptêmes\nVolensud organise des sortie parapente :• Vols biplace de découverte : expérience de première approche du parapente avec un pilote encadrant.• Bons cadeaux possibles pour offrir une séance d’initiation.\nAspects pratiques :• Activités proposées tous les jours de l’année selon conditions météo.• Il est recommandé de contacter le club avant la séance pour planifier le rendez-vous.\n⸻\n📚 2. Stages encadrés et progression\nEn complément des vols ponctuels\, le club propose également des formations structurées :• Stage d’initiation cerf-volant avec plusieurs séances pour apprendre les bases.\nCes stages permettent d’acquérir les compétences nécessaires à une pratique autonome et sécurisée.\n⸻\n🧭 3. Sorties et entraînements collectifs\nVolensud organise régulièrement :• Sorties de groupe sur les sites de vol locaux (par ex. pente école\, Malbosc).• Séances d’entraînement (gonflage\, décollage\, techniques de base) selon météo et disponibilité des encadrants.\nCela favorise la progression des pilotes tout en renforçant la cohésion du groupe.\n⸻\n🗓️ Modalités pratiques\n📍 Lieux et accès• Siège et principal point de contact à Montpellier (Hérault – Occitanie).• Activités de vol sur plusieurs zones autour de Montpellier et Malbosc selon conditions aérologiques.\n☎️ Contact et réservations• Téléphone : 06 52 92 22 50• Email : volensud@gmail.com• Site web officiel pour infos et actualités : volensud.com.\n📅 Conditions & recommandations• Les vols et stages sont organisés selon conditions météo (sécurité prioritaire). • Pour les stages structurés ou formations avec nos partenaires\, il est conseillé de réserver à l’avance\, surtout en saison haute.• Port du matériel adapté (chaussures confortables\, vêtements selon météo\, lunettes…) recommandé.\n⸻\n📌 À savoir\nVolensud agit aussi comme un réseau pour les pilotes : partage de retours météo\, covoiturage vers les spots\, prêt de matériel et conseils sécurité. \n\n\nDescription\nStage sportif organisé en partenariat avec le service des sports de la mairie de Montpellier.Découverte du cerf-volant\, du boomerang et des disciplines de la fédération Française de vol libre.Conception\, fabrication\, mise en vol.Loisirs créatifs sur le thème de la matérialité de l’air et la représentation du vent. \n\n\nObtenir des renseignements sur cet événement\n\n\n\n\nOrganisation\nVOLENSUD PARAPENTE OCCITANIE \nAdresse : 50 allée beranger\, 34080 Montpellier \nSite web : https://www.volensud.com \nTéléphone : 06 52 92 22 50
URL:https://cerfvolantsud.fr/event/220/
LOCATION:Terrain de vol libre de Malbosc\, Terrain de vol libre de Malbosc\, Montpellier\, 34090\, France
ORGANIZER;CN="Volensud":MAILTO:volensud@gmail.com
END:VEVENT
END:VCALENDAR